BEGIN:VCALENDAR
VERSION:2.0
PRODID:-//Kirche Helbe-Notter//NONSGML kigkonsult.se iCalcreator 2.30.10//
CALSCALE:GREGORIAN
METHOD:PUBLISH
UID:55def063-1d27-4c94-968c-189247cec4cf
X-WR-CALNAME:iCagenda
X-WR-CALDESC:Event Management Extension for Joomla!
X-WR-RELCALID:3E26604A-50F4-4449-8B3E-E4F4932D05B5
X-WR-TIMEZONE:Europe/Berlin
BEGIN:VTIMEZONE
TZID:Europe/Berlin
BEGIN:STANDARD
TZNAME:CET
DTSTART:20251026T030000
TZOFFSETFROM:+0200
TZOFFSETTO:+0100
RDATE:20261025T030000
END:STANDARD
BEGIN:DAYLIGHT
TZNAME:CEST
DTSTART:20250330T020000
TZOFFSETFROM:+0100
TZOFFSETTO:+0200
RDATE:20260329T020000
RDATE:20270328T020000
END:DAYLIGHT
END:VTIMEZONE
BEGIN:VEVENT
UID:7f509b4f-4596-469f-a6c0-a60d8516ac4b
DTSTAMP:20260421T154722Z
CATEGORIES:Konfirmanden
CLASS:PUBLIC
DESCRIPTION:
DTSTART:20251218T151500Z
DTEND:20251218T151500Z
GEO:00;0
LOCATION:
ORGANIZER:
SEQUENCE:1
SUMMARY:Vorkonfirmanden-Unterricht
TRANSP:OPAQUE
URL:https://www.helbe-notter.de/index.php/component/icagenda/208-vorkonfirm
 anden-unterricht/2025-12-18-16-15?Itemid=101&iccaldate=2032-02-1
END:VEVENT
END:VCALENDAR
