BEGIN:VCALENDAR
VERSION:2.0
PRODID:-//Kirche Helbe-Notter//NONSGML kigkonsult.se iCalcreator 2.30.10//
CALSCALE:GREGORIAN
METHOD:PUBLISH
UID:631d7755-734f-430c-9494-0e6238661b58
X-WR-CALNAME:iCagenda
X-WR-CALDESC:Event Management Extension for Joomla!
X-WR-RELCALID:3E26604A-50F4-4449-8B3E-E4F4932D05B5
X-WR-TIMEZONE:Europe/Berlin
BEGIN:VTIMEZONE
TZID:Europe/Berlin
BEGIN:STANDARD
TZNAME:CET
DTSTART:20251026T030000
TZOFFSETFROM:+0200
TZOFFSETTO:+0100
RDATE:20261025T030000
END:STANDARD
BEGIN:DAYLIGHT
TZNAME:CEST
DTSTART:20250330T020000
TZOFFSETFROM:+0100
TZOFFSETTO:+0200
RDATE:20260329T020000
RDATE:20270328T020000
END:DAYLIGHT
END:VTIMEZONE
BEGIN:VEVENT
UID:91751217-e6c6-4baa-b997-ce75aa87fa99
DTSTAMP:20260421T140119Z
CATEGORIES:Gottesdienste
CLASS:PUBLIC
DESCRIPTION:
DTSTART:20260201T094500Z
DTEND:20260201T094500Z
GEO:00;0
LOCATION:
ORGANIZER:
SEQUENCE:1
SUMMARY:Gottesdienst in Körner
TRANSP:OPAQUE
URL:https://www.helbe-notter.de/index.php/component/icagenda/264-gottesdien
 st-in-k%C3%B6rner/2026-02-01-10-45?Itemid=101&iccaldate=2021-2-1
END:VEVENT
END:VCALENDAR
