BEGIN:VCALENDAR
VERSION:2.0
PRODID:-//Kirche Helbe-Notter//NONSGML kigkonsult.se iCalcreator 2.30.10//
CALSCALE:GREGORIAN
METHOD:PUBLISH
UID:a32ffe19-8957-4cac-9a23-e8a9defedb8b
X-WR-CALNAME:iCagenda
X-WR-CALDESC:Event Management Extension for Joomla!
X-WR-RELCALID:3E26604A-50F4-4449-8B3E-E4F4932D05B5
X-WR-TIMEZONE:Europe/Berlin
BEGIN:VTIMEZONE
TZID:Europe/Berlin
BEGIN:STANDARD
TZNAME:CET
DTSTART:20251026T030000
TZOFFSETFROM:+0200
TZOFFSETTO:+0100
RDATE:20261025T030000
END:STANDARD
BEGIN:DAYLIGHT
TZNAME:CEST
DTSTART:20250330T020000
TZOFFSETFROM:+0100
TZOFFSETTO:+0200
RDATE:20260329T020000
RDATE:20270328T020000
END:DAYLIGHT
END:VTIMEZONE
BEGIN:VEVENT
UID:b0ce7936-8e51-4357-9156-4c3297c1fda5
DTSTAMP:20260421T094347Z
CATEGORIES:Gemeindeleben
CLASS:PUBLIC
DESCRIPTION:
DTSTART:20260319T190000Z
DTEND:20260319T190000Z
GEO:00;0
LOCATION:Gemeindehaus Großmehlra
ORGANIZER:
SEQUENCE:1
SUMMARY:Hauskreis in Großmehlra im Gemeindehaus
TRANSP:OPAQUE
URL:https://www.helbe-notter.de/index.php/component/icagenda/353-hauskreis-
 in-gro%C3%9Fmehlra-im-gemeindehaus/2026-03-19-20-00?Itemid=101&iccaldate=2
 023-1-1
END:VEVENT
END:VCALENDAR
