BEGIN:VCALENDAR
VERSION:2.0
PRODID:-//Kirche Helbe-Notter//NONSGML kigkonsult.se iCalcreator 2.30.10//
CALSCALE:GREGORIAN
METHOD:PUBLISH
UID:34630fe3-4045-4873-98f5-10386683df4e
X-WR-CALNAME:iCagenda
X-WR-CALDESC:Event Management Extension for Joomla!
X-WR-RELCALID:3E26604A-50F4-4449-8B3E-E4F4932D05B5
X-WR-TIMEZONE:Europe/Berlin
BEGIN:VTIMEZONE
TZID:Europe/Berlin
BEGIN:STANDARD
TZNAME:CET
DTSTART:20251026T030000
TZOFFSETFROM:+0200
TZOFFSETTO:+0100
RDATE:20261025T030000
END:STANDARD
BEGIN:DAYLIGHT
TZNAME:CEST
DTSTART:20250330T020000
TZOFFSETFROM:+0100
TZOFFSETTO:+0200
RDATE:20260329T020000
RDATE:20270328T020000
END:DAYLIGHT
END:VTIMEZONE
BEGIN:VEVENT
UID:cb8c6cfa-2d14-494c-b711-bc7339f3eb1c
DTSTAMP:20260421T095157Z
CATEGORIES:Events
CLASS:PUBLIC
DESCRIPTION:
DTSTART:20251212T170000Z
DTEND:20251212T170000Z
GEO:00;0
LOCATION:
ORGANIZER:
SEQUENCE:1
SUMMARY:Jugendgottesdienst Lighthouse in Urbach
TRANSP:OPAQUE
URL:https://www.helbe-notter.de/index.php/component/icagenda/367-jugendgott
 esdienst-lighthouse-in-menterode/2025-12-12-18-00?Itemid=101&iccaldate=203
 2-04-1
END:VEVENT
END:VCALENDAR
