BEGIN:VCALENDAR
VERSION:2.0
PRODID:-//Kirche Helbe-Notter//NONSGML kigkonsult.se iCalcreator 2.30.10//
CALSCALE:GREGORIAN
METHOD:PUBLISH
UID:0ca3fcdf-914e-40ce-9eb6-2d1807757dab
X-WR-CALNAME:iCagenda
X-WR-CALDESC:Event Management Extension for Joomla!
X-WR-RELCALID:3E26604A-50F4-4449-8B3E-E4F4932D05B5
X-WR-TIMEZONE:Europe/Berlin
BEGIN:VTIMEZONE
TZID:Europe/Berlin
BEGIN:STANDARD
TZNAME:CET
DTSTART:20251026T030000
TZOFFSETFROM:+0200
TZOFFSETTO:+0100
RDATE:20261025T030000
END:STANDARD
BEGIN:DAYLIGHT
TZNAME:CEST
DTSTART:20250330T020000
TZOFFSETFROM:+0100
TZOFFSETTO:+0200
RDATE:20260329T020000
RDATE:20270328T020000
END:DAYLIGHT
END:VTIMEZONE
BEGIN:VEVENT
UID:1937929c-ddfa-4317-a654-fce416b058a1
DTSTAMP:20260421T122829Z
CATEGORIES:Gemeindeleben
CLASS:PUBLIC
DESCRIPTION:
DTSTART:20260122T133000Z
DTEND:20260122T133000Z
GEO:00;0
LOCATION:
ORGANIZER:
SEQUENCE:1
SUMMARY:Senioren Spiele-Kreis in Großmehlra
TRANSP:OPAQUE
URL:https://www.helbe-notter.de/index.php/component/icagenda/475-senioren-s
 piele-kreis-in-gro%C3%9Fmehlra/2026-01-22-14-30?Itemid=101&iccaldate=2022-
 01-1
END:VEVENT
END:VCALENDAR
