BEGIN:VCALENDAR
VERSION:2.0
PRODID:-//Kirche Helbe-Notter//NONSGML kigkonsult.se iCalcreator 2.30.10//
CALSCALE:GREGORIAN
METHOD:PUBLISH
UID:66b817bb-6506-4619-98b8-ddac1f4e125a
X-WR-CALNAME:iCagenda
X-WR-CALDESC:Event Management Extension for Joomla!
X-WR-RELCALID:3E26604A-50F4-4449-8B3E-E4F4932D05B5
X-WR-TIMEZONE:Europe/Berlin
BEGIN:VTIMEZONE
TZID:Europe/Berlin
BEGIN:STANDARD
TZNAME:CET
DTSTART:20251026T030000
TZOFFSETFROM:+0200
TZOFFSETTO:+0100
RDATE:20261025T030000
END:STANDARD
BEGIN:DAYLIGHT
TZNAME:CEST
DTSTART:20260329T020000
TZOFFSETFROM:+0100
TZOFFSETTO:+0200
RDATE:20270328T020000
END:DAYLIGHT
END:VTIMEZONE
BEGIN:VEVENT
UID:9bd94335-c776-458e-8567-a67795c12ada
DTSTAMP:20260420T125215Z
CATEGORIES:Gottesdienste
CLASS:PUBLIC
DESCRIPTION:
DTSTART:20260419T084500Z
DTEND:20260419T084500Z
GEO:00;0
LOCATION:
ORGANIZER:
SEQUENCE:1
SUMMARY:Vorstellungs-Gottesdienst in Menteroda
TRANSP:OPAQUE
URL:https://www.helbe-notter.de/index.php/component/icagenda/493-vorstellun
 gs-gottesdienst-in-menteroda/2026-04-19-10-45?Itemid=101&iccaldate=2026-5-
 1
END:VEVENT
END:VCALENDAR
