BEGIN:VCALENDAR
VERSION:2.0
PRODID:-//Kirche Helbe-Notter//NONSGML kigkonsult.se iCalcreator 2.30.10//
CALSCALE:GREGORIAN
METHOD:PUBLISH
UID:ff439ef3-e73f-487b-877d-63cb3c79fa24
X-WR-CALNAME:iCagenda
X-WR-CALDESC:Event Management Extension for Joomla!
X-WR-RELCALID:3E26604A-50F4-4449-8B3E-E4F4932D05B5
X-WR-TIMEZONE:Europe/Berlin
BEGIN:VTIMEZONE
TZID:Europe/Berlin
BEGIN:STANDARD
TZNAME:CET
DTSTART:20261025T030000
TZOFFSETFROM:+0200
TZOFFSETTO:+0100
RDATE:20271031T030000
END:STANDARD
BEGIN:DAYLIGHT
TZNAME:CEST
DTSTART:20260329T020000
TZOFFSETFROM:+0100
TZOFFSETTO:+0200
RDATE:20270328T020000
RDATE:20280326T020000
END:DAYLIGHT
END:VTIMEZONE
BEGIN:VEVENT
UID:b629acc5-633e-488d-9ea2-3bdf8ceb307a
DTSTAMP:20260421T080212Z
CATEGORIES:Gremien
CLASS:PUBLIC
DESCRIPTION:
DTSTART:20261029T180000Z
DTEND:20261029T180000Z
GEO:00;0
LOCATION:
ORGANIZER:
SEQUENCE:1
SUMMARY:Gemeindekirchenrat-Sitzung in Körner
TRANSP:OPAQUE
URL:https://www.helbe-notter.de/index.php/gottesdienste-termine/269-gemeind
 ekirchenrat-sitzung-in-k%C3%B6rner/2026-10-29-19-00
END:VEVENT
END:VCALENDAR
